1.0000000000
0.0000000000
0.0000000000
-1.0000000000
643002.0000000000
4165853.0000000000
