1.0000000000
0.0000000000
0.0000000000
-1.0000000000
648642.0000000000
4159019.0000000000
