1.0000000000
0.0000000000
0.0000000000
-1.0000000000
615426.5000000000
4165398.5000000000
