1.0000000000
0.0000000000
0.0000000000
-1.0000000000
604482.5000000000
4158309.5000000000
