1.0000000000
0.0000000000
0.0000000000
-1.0000000000
598962.5000000000
4158237.5000000000
