1.0000000000
0.0000000000
0.0000000000
-1.0000000000
593363.5000000000
4165104.5000000000
