1.0000000000
0.0000000000
0.0000000000
-1.0000000000
587848.5000000000
4165040.5000000000
