1.0000000000
0.0000000000
0.0000000000
-1.0000000000
593442.5000000000
4158169.5000000000
