1.0000000000
0.0000000000
0.0000000000
-1.0000000000
587921.5000000000
4158105.5000000000
