BEGIN_USGS_DOQ_HEADER *
QUADRANGLE_NAME "NILES" 3.45 or 7.5-min. name*
QUADRANT SW quadrant indicator if cell size = 3.75-minutes*
WEST_LONGITUDE -122 0 0.000 signed deg min sec SDDD MM SS.SSS*
EAST_LONGITUDE -121 56 15.000 signed deg min sec SDDD MM SS.SSS*
NORTH_LATITUDE 37 33 45.000 signed deg min sec SDDD MM SS.SSS*
SOUTH_LATITUDE 37 30 0.000 signed deg min sec SDDD MM SS.SSS*
PRODUCTION_DATE 1998 8 7 yyyy mm dd*
RASTER_ORDER LEFT_RIGHT/TOP_BOTTOM video display order*
BAND_ORGANIZATION "SINGLE FILE" single file or BSQ, or BIL or BIP*
BAND_CONTENT BLACK&WHITE black&white or red green blue*
BITS_PER_PIXEL 8 radiometric resolution*
SAMPLES_AND_LINES 6296 7605 number of columns and rows*
HORIZONTAL_DATUM NAD83 primary horizontal datum*
HORIZONTAL_COORDINATE_SYSTEM UTM *
COORDINATE_ZONE 10 coordinate system zone number*
HORIZONTAL_UNITS METERS coordinate system units*
HORIZONTAL_RESOLUTION 1.00 pixel horiz. ground sample distance*
SECONDARY_HORIZONTAL_DATUM NAD27 secondary horizontal datum*
XY_ORIGIN 587921.000 4158106.000 coord. of upper left pixel pri. datum*
SECONDARY_XY_ORIGIN 588017.807 4157909.507 coord upper left pixel sec datum*
NATION US nation code*
STATE CA state fip code*
NW_QUAD_CORNER_XY 588317.512 4157745.169 XY coords. of pri. NW quad corner*
NE_QUAD_CORNER_XY 593837.516 4157805.744 XY coords. of pri. NE quad corner*
SE_QUAD_CORNER_XY 593915.861 4150871.482 XY coords. of pri. SE quad corner*
SW_QUAD_CORNER_XY 588391.247 4150810.942 XY coords. of pri. SW quad corner*
SECONDARY_NW_QUAD_XY 588319.695 4157540.571 XY coords. - sec. NW quad cor.*
SECONDARY_NE_QUAD_XY 593839.835 4157601.148 XY coords. - sec. NE quad cor.*
SECONDARY_SE_QUAD_XY 593918.179 4150667.041 XY coords. - sec. SE quad cor.*
SECONDARY_SW_QUAD_XY 588393.429 4150606.500 XY coords. - sec. SW quad cor.*
RMSE_XY 1.10 doq horiz. accuracy*
IMAGE_SOURCE "BLACK AND WHITE FILM" b&w, cir, natural color, other*
SOURCE_IMAGE_ID "NAPP 6357 190" source image id*
SOURCE_IMAGE_DATE 1993 06 16 source image date as yyyy mm dd*
IMAGE_SOURCE "BLACK AND WHITE FILM" b&w, cir, natural color, other*
SOURCE_IMAGE_ID "NAPP 6357 064" source image id*
SOURCE_IMAGE_DATE 1993 06 16 source image date as yyyy mm dd*
SOURCE_DEM_DATE 1948 00 00 source dem date yyyy mm dd*
AGENCY "WESTERN MAPPING CENTER (WMC)" oversight agency*
PRODUCER "SCIENCE APPLICATIONS INTERNATIONAL" producer/contractor*
PRODUCTION_SYSTEM "GIS/MAGIC" production system*
STANDARD_VERSION 1996 12 version of DOQ standard*
METADATA_DATE 1998 08 21 date created or changed, yyyy mm dd*
DATA_FILE_SIZE 47887376 data set size in bytes*
BYTE_COUNT 6296 header byte count* * * * * * * * * * * * * * * * * * * * * * * * * * * * * * * * *
END_USGS_HEADER *
