1.0000000000
0.0000000000
0.0000000000
-1.0000000000
670295.0000000000
4180265.0000000000
