BEGIN_USGS_DOQ_HEADER *
QUADRANGLE_NAME "SALIDA" 3.45 or 7.5-min. name*
QUADRANT NE quadrant indicator if cell size = 3.75-minutes*
WEST_LONGITUDE -121 3 45.000 signed deg min sec SDDD MM SS.SSS*
EAST_LONGITUDE -121 0 0.000 signed deg min sec SDDD MM SS.SSS*
NORTH_LATITUDE 37 45 0.000 signed deg min sec SDDD MM SS.SSS*
SOUTH_LATITUDE 37 41 15.000 signed deg min sec SDDD MM SS.SSS*
PRODUCTION_DATE 1996 5 14 yyyy mm dd*
RASTER_ORDER LEFT_RIGHT/TOP_BOTTOM video display order*
BAND_ORGANIZATION "SINGLE FILE" single file or BSQ, or BIL or BIP*
BAND_CONTENT BLACK&WHITE black&white or red green blue*
BITS_PER_PIXEL 8 radiometric resolution*
SAMPLES_AND_LINES 6358 7672 number of columns and rows*
HORIZONTAL_DATUM NAD83 primary horizontal datum*
HORIZONTAL_COORDINATE_SYSTEM UTM *
COORDINATE_ZONE 10 coordinate system zone number*
HORIZONTAL_UNITS METERS coordinate system units*
HORIZONTAL_RESOLUTION 1.00 pixel horiz. ground sample distance*
SECONDARY_HORIZONTAL_DATUM NAD27 secondary horizontal datum*
XY_ORIGIN 670294.500 4180265.500 coord. of upper left pixel pri. datum*
SECONDARY_XY_ORIGIN 670390.939 4180070.355 coord upper left pixel sec datum*
NATION US nation code*
STATE CA state fip code*
NW_QUAD_CORNER_XY 670691.402 4179844.850 XY coords. of pri. NW quad corner*
NE_QUAD_CORNER_XY 676198.133 4179960.738 XY coords. of pri. NE quad corner*
SE_QUAD_CORNER_XY 676346.298 4173025.493 XY coords. of pri. SE quad corner*
SW_QUAD_CORNER_XY 670834.932 4172909.671 XY coords. of pri. SW quad corner*
SECONDARY_NW_QUAD_XY 670695.643 4179639.822 XY coords. - sec. NW quad cor.*
SECONDARY_NE_QUAD_XY 676202.510 4179755.714 XY coords. - sec. NE quad cor.*
SECONDARY_SE_QUAD_XY 676350.672 4172820.621 XY coords. - sec. SE quad cor.*
SECONDARY_SW_QUAD_XY 670839.170 4172704.796 XY coords. - sec. SW quad cor.*
RMSE_XY 1.40 doq horiz. accuracy*
IMAGE_SOURCE "BLACK AND WHITE FILM" b&w, cir, natural color, other*
SOURCE_IMAGE_ID "NAPP 6349 091" source image id*
SOURCE_IMAGE_DATE 1993 5 9 source image date as yyyy mm dd*
SOURCE_DEM_DATE 1996 5 14 source dem date yyyy mm dd*
AGENCY "WESTERN MAPPING CENTER (WMC)" oversight agency*
PRODUCER "Woolpert Consultants" producer/contractor*
PRODUCTION_SYSTEM "INTERGRAPH ISPM,ISIR" production system*
STANDARD_VERSION 1996 12 version of DOQ standard*
METADATA_DATE 1997 6 13 date created or changed, yyyy mm dd*
DATA_FILE_SIZE 48784934 data set size in bytes*
BYTE_COUNT 6358 header byte count* * * * * * * * * * * * * * * * * * * * * * * * * * * * * * * * * * * * *
END_USGS_HEADER *
