1.0000000000
0.0000000000
0.0000000000
-1.0000000000
664788.0000000000
4180149.0000000000
