1.0000000000
0.0000000000
0.0000000000
-1.0000000000
670535.5000000000
4173324.5000000000
