BEGIN_USGS_DOQ_HEADER *
QUADRANGLE_NAME "RIPON" 3.45 or 7.5-min. name*
QUADRANT NE quadrant indicator if cell size = 3.75-minutes*
WEST_LONGITUDE -121 11 15.000 signed deg min sec SDDD MM SS.SSS*
EAST_LONGITUDE -121 7 30.000 signed deg min sec SDDD MM SS.SSS*
NORTH_LATITUDE 37 45 0.000 signed deg min sec SDDD MM SS.SSS*
SOUTH_LATITUDE 37 41 15.000 signed deg min sec SDDD MM SS.SSS*
PRODUCTION_DATE 1996 5 14 yyyy mm dd*
RASTER_ORDER LEFT_RIGHT/TOP_BOTTOM video display order*
BAND_ORGANIZATION "SINGLE FILE" single file or BSQ, or BIL or BIP*
BAND_CONTENT BLACK&WHITE black&white or red green blue*
BITS_PER_PIXEL 8 radiometric resolution*
SAMPLES_AND_LINES 6349 7664 number of columns and rows*
HORIZONTAL_DATUM NAD83 primary horizontal datum*
HORIZONTAL_COORDINATE_SYSTEM UTM *
COORDINATE_ZONE 10 coordinate system zone number*
HORIZONTAL_UNITS METERS coordinate system units*
HORIZONTAL_RESOLUTION 1.00 pixel horiz. ground sample distance*
SECONDARY_HORIZONTAL_DATUM NAD27 secondary horizontal datum*
XY_ORIGIN 659280.500 4180037.500 coord. of upper left pixel pri. datum*
SECONDARY_XY_ORIGIN 659376.914 4179842.216 coord upper left pixel sec datum*
NATION US nation code*
STATE CA state fip code*
NW_QUAD_CORNER_XY 659678.093 4179624.122 XY coords. of pri. NW quad corner*
NE_QUAD_CORNER_XY 665184.723 4179732.645 XY coords. of pri. NE quad corner*
SE_QUAD_CORNER_XY 665323.618 4172797.529 XY coords. of pri. SE quad corner*
SW_QUAD_CORNER_XY 659812.354 4172689.068 XY coords. of pri. SW quad corner*
SECONDARY_NW_QUAD_XY 659682.060 4179419.088 XY coords. - sec. NW quad cor.*
SECONDARY_NE_QUAD_XY 665188.826 4179527.614 XY coords. - sec. NE quad cor.*
SECONDARY_SE_QUAD_XY 665327.719 4172592.652 XY coords. - sec. SE quad cor.*
SECONDARY_SW_QUAD_XY 659816.318 4172484.188 XY coords. - sec. SW quad cor.*
RMSE_XY 1.40 doq horiz. accuracy*
IMAGE_SOURCE "BLACK AND WHITE FILM" b&w, cir, natural color, other*
SOURCE_IMAGE_ID "NAPP 6351 093" source image id*
SOURCE_IMAGE_DATE 1993 5 22 source image date as yyyy mm dd*
SOURCE_DEM_DATE 1996 5 14 source dem date yyyy mm dd*
AGENCY "WESTERN MAPPING CENTER (WMC)" oversight agency*
PRODUCER "Woolpert Consultants" producer/contractor*
PRODUCTION_SYSTEM "INTERGRAPH ISPM,ISIR" production system*
STANDARD_VERSION 1996 12 version of DOQ standard*
METADATA_DATE 1997 6 13 date created or changed, yyyy mm dd*
DATA_FILE_SIZE 48665085 data set size in bytes*
BYTE_COUNT 6349 header byte count* * * * * * * * * * * * * * * * * * * * * * * * * * * * * * * * * * * * *
END_USGS_HEADER *
