1.0000000000
0.0000000000
0.0000000000
-1.0000000000
653774.0000000000
4179929.0000000000
