1.0000000000
0.0000000000
0.0000000000
-1.0000000000
659415.0000000000
4173102.0000000000
