1.0000000000
0.0000000000
0.0000000000
-1.0000000000
653904.0000000000
4172994.0000000000
