1.0000000000
0.0000000000
0.0000000000
-1.0000000000
615232.5000000000
4179267.5000000000
