1.0000000000
0.0000000000
0.0000000000
-1.0000000000
609725.5000000000
4179188.5000000000
