1.0000000000
0.0000000000
0.0000000000
-1.0000000000
615329.5000000000
4172332.5000000000
