BEGIN_USGS_DOQ_HEADER *
QUADRANGLE_NAME "ALTAMONT" 3.45 or 7.5-min. name*
QUADRANT SW quadrant indicator if cell size = 3.75-minutes*
WEST_LONGITUDE -121 45 0.000 signed deg min sec SDDD MM SS.SSS*
EAST_LONGITUDE -121 41 15.000 signed deg min sec SDDD MM SS.SSS*
NORTH_LATITUDE 37 41 15.000 signed deg min sec SDDD MM SS.SSS*
SOUTH_LATITUDE 37 37 30.000 signed deg min sec SDDD MM SS.SSS*
PRODUCTION_DATE 1998 8 10 yyyy mm dd*
RASTER_ORDER LEFT_RIGHT/TOP_BOTTOM video display order*
BAND_ORGANIZATION "SINGLE FILE" single file or BSQ, or BIL or BIP*
BAND_CONTENT BLACK&WHITE black&white or red green blue*
BITS_PER_PIXEL 8 radiometric resolution*
SAMPLES_AND_LINES 6304 7621 number of columns and rows*
HORIZONTAL_DATUM NAD83 primary horizontal datum*
HORIZONTAL_COORDINATE_SYSTEM UTM *
COORDINATE_ZONE 10 coordinate system zone number*
HORIZONTAL_UNITS METERS coordinate system units*
HORIZONTAL_RESOLUTION 1.00 pixel horiz. ground sample distance*
SECONDARY_HORIZONTAL_DATUM NAD27 secondary horizontal datum*
XY_ORIGIN 609818.000 4172254.000 coord. of upper left pixel pri. datum*
SECONDARY_XY_ORIGIN 609914.441 4172058.125 coord upper left pixel sec datum*
NATION US nation code*
STATE CA state fip code*
NW_QUAD_CORNER_XY 610212.959 4171878.477 XY coords. of pri. NW quad corner*
NE_QUAD_CORNER_XY 615723.847 4171953.830 XY coords. of pri. NE quad corner*
SE_QUAD_CORNER_XY 615820.911 4165019.265 XY coords. of pri. SE quad corner*
SW_QUAD_CORNER_XY 610305.399 4164943.955 XY coords. of pri. SW quad corner*
SECONDARY_NW_QUAD_XY 610215.692 4171673.577 XY coords. - sec. NW quad cor.*
SECONDARY_NE_QUAD_XY 615726.717 4171748.932 XY coords. - sec. NE quad cor.*
SECONDARY_SE_QUAD_XY 615823.779 4164814.520 XY coords. - sec. SE quad cor.*
SECONDARY_SW_QUAD_XY 610308.130 4164739.209 XY coords. - sec. SW quad cor.*
RMSE_XY 1.90 doq horiz. accuracy*
IMAGE_SOURCE "BLACK AND WHITE FILM" b&w, cir, natural color, other*
SOURCE_IMAGE_ID "NAPP 6356 233" source image id*
SOURCE_IMAGE_DATE 1993 06 15 source image date as yyyy mm dd*
IMAGE_SOURCE "BLACK AND WHITE FILM" b&w, cir, natural color, other*
SOURCE_IMAGE_ID "NAPP 6356 232" source image id*
SOURCE_IMAGE_DATE 1993 06 15 source image date as yyyy mm dd*
SOURCE_DEM_DATE 1981 00 00 source dem date yyyy mm dd*
AGENCY "WESTERN MAPPING CENTER (WMC)" oversight agency*
PRODUCER "SCIENCE APPLICATIONS INTERNATIONAL" producer/contractor*
PRODUCTION_SYSTEM "GIS/MAGIC" production system*
STANDARD_VERSION 1996 12 version of DOQ standard*
METADATA_DATE 1998 08 21 date created or changed, yyyy mm dd*
DATA_FILE_SIZE 48049088 data set size in bytes*
BYTE_COUNT 6304 header byte count* * * * * * * * * * * * * * * * * * * * * * * * * * * * * * * * *
END_USGS_HEADER *
