1.0000000000
0.0000000000
0.0000000000
-1.0000000000
598796.5000000000
4172106.5000000000
