1.0000000000
0.0000000000
0.0000000000
-1.0000000000
587700.5000000000
4178908.5000000000
