1.0000000000
0.0000000000
0.0000000000
-1.0000000000
593285.5000000000
4172038.5000000000
