1.0000000000
0.0000000000
0.0000000000
-1.0000000000
587774.5000000000
4171974.5000000000
