1.0000000000
0.0000000000
0.0000000000
-1.0000000000
615037.5000000000
4193137.5000000000
