1.0000000000
0.0000000000
0.0000000000
-1.0000000000
609540.5000000000
4193057.5000000000
