BEGIN_USGS_DOQ_HEADER *
QUADRANGLE_NAME "BYRON HOT SPRINGS" 3.45 or 7.5-min. name*
QUADRANT SW quadrant indicator if cell size = 3.75-minutes*
WEST_LONGITUDE -121 45 0.000 signed deg min sec SDDD MM SS.SSS*
EAST_LONGITUDE -121 41 15.000 signed deg min sec SDDD MM SS.SSS*
NORTH_LATITUDE 37 48 45.000 signed deg min sec SDDD MM SS.SSS*
SOUTH_LATITUDE 37 45 0.000 signed deg min sec SDDD MM SS.SSS*
PRODUCTION_DATE 1998 8 6 yyyy mm dd*
RASTER_ORDER LEFT_RIGHT/TOP_BOTTOM video display order*
BAND_ORGANIZATION "SINGLE FILE" single file or BSQ, or BIL or BIP*
BAND_CONTENT BLACK&WHITE black&white or red green blue*
BITS_PER_PIXEL 8 radiometric resolution*
SAMPLES_AND_LINES 6295 7623 number of columns and rows*
HORIZONTAL_DATUM NAD83 primary horizontal datum*
HORIZONTAL_COORDINATE_SYSTEM UTM *
COORDINATE_ZONE 10 coordinate system zone number*
HORIZONTAL_UNITS METERS coordinate system units*
HORIZONTAL_RESOLUTION 1.00 pixel horiz. ground sample distance*
SECONDARY_HORIZONTAL_DATUM NAD27 secondary horizontal datum*
XY_ORIGIN 609633.000 4186124.000 coord. of upper left pixel pri. datum*
SECONDARY_XY_ORIGIN 609729.312 4185928.205 coord upper left pixel sec datum*
NATION US nation code*
STATE CA state fip code*
NW_QUAD_CORNER_XY 610027.685 4185747.731 XY coords. of pri. NW quad corner*
NE_QUAD_CORNER_XY 615529.305 4185823.170 XY coords. of pri. NE quad corner*
SE_QUAD_CORNER_XY 615626.645 4178888.465 XY coords. of pri. SE quad corner*
SW_QUAD_CORNER_XY 610120.388 4178813.069 XY coords. of pri. SW quad corner*
SECONDARY_NW_QUAD_XY 610030.422 4185542.526 XY coords. - sec. NW quad cor.*
SECONDARY_NE_QUAD_XY 615532.179 4185617.966 XY coords. - sec. NE quad cor.*
SECONDARY_SE_QUAD_XY 615629.517 4178683.413 XY coords. - sec. SE quad cor.*
SECONDARY_SW_QUAD_XY 610123.123 4178608.016 XY coords. - sec. SW quad cor.*
RMSE_XY 1.50 doq horiz. accuracy*
IMAGE_SOURCE "BLACK AND WHITE FILM" b&w, cir, natural color, other*
SOURCE_IMAGE_ID "NAPP 6357 056" source image id*
SOURCE_IMAGE_DATE 1993 06 16 source image date as yyyy mm dd*
IMAGE_SOURCE "BLACK AND WHITE FILM" b&w, cir, natural color, other*
SOURCE_IMAGE_ID "NAPP 6356 236" source image id*
SOURCE_IMAGE_DATE 1993 06 15 source image date as yyyy mm dd*
IMAGE_SOURCE "BLACK AND WHITE FILM" b&w, cir, natural color, other*
SOURCE_IMAGE_ID "NAPP 6357 055" source image id*
SOURCE_IMAGE_DATE 1993 06 16 source image date as yyyy mm dd*
IMAGE_SOURCE "BLACK AND WHITE FILM" b&w, cir, natural color, other*
SOURCE_IMAGE_ID "NAPP 6356 155" source image id*
SOURCE_IMAGE_DATE 1993 06 15 source image date as yyyy mm dd*
IMAGE_SOURCE "BLACK AND WHITE FILM" b&w, cir, natural color, other*
SOURCE_IMAGE_ID "NAPP 6356 154" source image id*
SOURCE_IMAGE_DATE 1993 06 15 source image date as yyyy mm dd*
SOURCE_DEM_DATE 1953 00 00 source dem date yyyy mm dd*
AGENCY "WESTERN MAPPING CENTER (WMC)" oversight agency*
PRODUCER "SCIENCE APPLICATIONS INTERNATIONAL" producer/contractor*
PRODUCTION_SYSTEM "GIS/MAGIC" production system*
STANDARD_VERSION 1996 12 version of DOQ standard*
METADATA_DATE 1998 08 21 date created or changed, yyyy mm dd*
DATA_FILE_SIZE 47993080 data set size in bytes*
BYTE_COUNT 6295 header byte count* * * * * * * * * * * * * * * * * * * * * * * *
END_USGS_HEADER *
