1.0000000000
0.0000000000
0.0000000000
-1.0000000000
593049.5000000000
4192842.5000000000
