1.0000000000
0.0000000000
0.0000000000
-1.0000000000
587626.5000000000
4185843.5000000000
