1.0000000000
0.0000000000
0.0000000000
-1.0000000000
614842.5000000000
4207006.5000000000
