1.0000000000
0.0000000000
0.0000000000
-1.0000000000
614939.5000000000
4200071.5000000000
