1.0000000000
0.0000000000
0.0000000000
-1.0000000000
609447.5000000000
4199992.5000000000
