1.0000000000
0.0000000000
0.0000000000
-1.0000000000
603866.5000000000
4206852.5000000000
