1.0000000000
0.0000000000
0.0000000000
-1.0000000000
598378.5000000000
4206780.5000000000
