BEGIN_USGS_DOQ_HEADER *
QUADRANGLE_NAME "ANTIOCH SOUTH" 3.45 or 7.5-min. name*
QUADRANT SE quadrant indicator if cell size = 3.75-minutes*
WEST_LONGITUDE -121 48 45.000 signed deg min sec SDDD MM SS.SSS*
EAST_LONGITUDE -121 45 0.000 signed deg min sec SDDD MM SS.SSS*
NORTH_LATITUDE 37 56 15.000 signed deg min sec SDDD MM SS.SSS*
SOUTH_LATITUDE 37 52 30.000 signed deg min sec SDDD MM SS.SSS*
PRODUCTION_DATE 1998 8 6 yyyy mm dd*
RASTER_ORDER LEFT_RIGHT/TOP_BOTTOM video display order*
BAND_ORGANIZATION "SINGLE FILE" single file or BSQ, or BIL or BIP*
BAND_CONTENT BLACK&WHITE black&white or red green blue*
BITS_PER_PIXEL 8 radiometric resolution*
SAMPLES_AND_LINES 6282 7619 number of columns and rows*
HORIZONTAL_DATUM NAD83 primary horizontal datum*
HORIZONTAL_COORDINATE_SYSTEM UTM *
COORDINATE_ZONE 10 coordinate system zone number*
HORIZONTAL_UNITS METERS coordinate system units*
HORIZONTAL_RESOLUTION 1.00 pixel horiz. ground sample distance*
SECONDARY_HORIZONTAL_DATUM NAD27 secondary horizontal datum*
XY_ORIGIN 603954.000 4199918.000 coord. of upper left pixel pri. datum*
SECONDARY_XY_ORIGIN 604050.233 4199722.202 coord upper left pixel sec datum*
NATION US nation code*
STATE CA state fip code*
NW_QUAD_CORNER_XY 604349.592 4199545.430 XY coords. of pri. NW quad corner*
NE_QUAD_CORNER_XY 609841.885 4199617.266 XY coords. of pri. NE quad corner*
SE_QUAD_CORNER_XY 609934.851 4192682.464 XY coords. of pri. SE quad corner*
SW_QUAD_CORNER_XY 604437.907 4192610.667 XY coords. of pri. SW quad corner*
SECONDARY_NW_QUAD_XY 604352.196 4199339.920 XY coords. - sec. NW quad cor.*
SECONDARY_NE_QUAD_XY 609844.626 4199411.758 XY coords. - sec. NE quad cor.*
SECONDARY_SE_QUAD_XY 609937.590 4192477.106 XY coords. - sec. SE quad cor.*
SECONDARY_SW_QUAD_XY 604440.509 4192405.308 XY coords. - sec. SW quad cor.*
RMSE_XY 1.40 doq horiz. accuracy*
IMAGE_SOURCE "BLACK AND WHITE FILM" b&w, cir, natural color, other*
SOURCE_IMAGE_ID "NAPP 6354 108" source image id*
SOURCE_IMAGE_DATE 1993 06 12 source image date as yyyy mm dd*
IMAGE_SOURCE "BLACK AND WHITE FILM" b&w, cir, natural color, other*
SOURCE_IMAGE_ID "NAPP 6354 212" source image id*
SOURCE_IMAGE_DATE 1993 06 12 source image date as yyyy mm dd*
IMAGE_SOURCE "BLACK AND WHITE FILM" b&w, cir, natural color, other*
SOURCE_IMAGE_ID "NAPP 6354 210" source image id*
SOURCE_IMAGE_DATE 1993 06 12 source image date as yyyy mm dd*
IMAGE_SOURCE "BLACK AND WHITE FILM" b&w, cir, natural color, other*
SOURCE_IMAGE_ID "NAPP 6354 110" source image id*
SOURCE_IMAGE_DATE 1993 06 12 source image date as yyyy mm dd*
SOURCE_DEM_DATE 1980 00 00 source dem date yyyy mm dd*
AGENCY "WESTERN MAPPING CENTER (WMC)" oversight agency*
PRODUCER "SCIENCE APPLICATIONS INTERNATIONAL" producer/contractor*
PRODUCTION_SYSTEM "GIS/MAGIC" production system*
STANDARD_VERSION 1996 12 version of DOQ standard*
METADATA_DATE 1998 08 21 date created or changed, yyyy mm dd*
DATA_FILE_SIZE 47868840 data set size in bytes*
BYTE_COUNT 6282 header byte count* * * * * * * * * * * * * * * * * * * * * * * * * * *
END_USGS_HEADER *
