1.0000000000
0.0000000000
0.0000000000
-1.0000000000
598462.5000000000
4199845.5000000000
