1.0000000000
0.0000000000
0.0000000000
-1.0000000000
614646.5000000000
4220877.5000000000
