1.0000000000
0.0000000000
0.0000000000
-1.0000000000
609167.5000000000
4220797.5000000000
