1.0000000000
0.0000000000
0.0000000000
-1.0000000000
609261.5000000000
4213862.5000000000
