1.0000000000
0.0000000000
0.0000000000
-1.0000000000
603689.5000000000
4220722.5000000000
