1.0000000000
0.0000000000
0.0000000000
-1.0000000000
598210.5000000000
4220650.5000000000
