1.0000000000
0.0000000000
0.0000000000
-1.0000000000
603778.5000000000
4213787.5000000000
