1.0000000000
0.0000000000
0.0000000000
-1.0000000000
592732.5000000000
4220581.5000000000
