1.0000000000
0.0000000000
0.0000000000
-1.0000000000
587254.5000000000
4220517.5000000000
