1.0000000000
0.0000000000
0.0000000000
-1.0000000000
592811.5000000000
4213646.5000000000
