1.0000000000
0.0000000000
0.0000000000
-1.0000000000
625385.0000000000
4234922.0000000000
