1.0000000000
0.0000000000
0.0000000000
-1.0000000000
625492.0000000000
4227987.0000000000
