1.0000000000
0.0000000000
0.0000000000
-1.0000000000
620018.0000000000
4227900.0000000000
